BEGIN:VCALENDAR
VERSION:2.0
PRODID:-//Raumdialog - ECPv6.15.20//NONSGML v1.0//EN
CALSCALE:GREGORIAN
METHOD:PUBLISH
X-ORIGINAL-URL:https://raumdialog.at
X-WR-CALDESC:Veranstaltungen für Raumdialog
REFRESH-INTERVAL;VALUE=DURATION:PT1H
X-Robots-Tag:noindex
X-PUBLISHED-TTL:PT1H
BEGIN:VTIMEZONE
TZID:Europe/Vienna
BEGIN:DAYLIGHT
TZOFFSETFROM:+0100
TZOFFSETTO:+0200
TZNAME:CEST
DTSTART:20230326T010000
END:DAYLIGHT
BEGIN:STANDARD
TZOFFSETFROM:+0200
TZOFFSETTO:+0100
TZNAME:CET
DTSTART:20231029T010000
END:STANDARD
BEGIN:DAYLIGHT
TZOFFSETFROM:+0100
TZOFFSETTO:+0200
TZNAME:CEST
DTSTART:20240331T010000
END:DAYLIGHT
BEGIN:STANDARD
TZOFFSETFROM:+0200
TZOFFSETTO:+0100
TZNAME:CET
DTSTART:20241027T010000
END:STANDARD
BEGIN:DAYLIGHT
TZOFFSETFROM:+0100
TZOFFSETTO:+0200
TZNAME:CEST
DTSTART:20250330T010000
END:DAYLIGHT
BEGIN:STANDARD
TZOFFSETFROM:+0200
TZOFFSETTO:+0100
TZNAME:CET
DTSTART:20251026T010000
END:STANDARD
END:VTIMEZONE
BEGIN:VEVENT
DTSTART;TZID=Europe/Vienna:20240303T080000
DTEND;TZID=Europe/Vienna:20240303T080000
DTSTAMP:20260422T084851
CREATED:20240119T194318Z
LAST-MODIFIED:20240121T143527Z
UID:572-1709452800-1709452800@raumdialog.at
SUMMARY:Fernlehrgang Zert. Baubiologe und Baubiologin
DESCRIPTION:Einstieg jederzeit möglich\, inkl. zwei Wochenenden mit geblockten Nahunterricht in Linz und Graz \n\n\n\nNähere Infos im Baubiologischen Institut Österreich unter+43 732 / 776044 oder institut@baubiologie.or.atFrau Mag. Susanna Jahrmann \n\n\n\n\nInfos zum Fernlehrgang Baubiologie
URL:https://raumdialog.at/termin/fernlehrgang-zert-baubiologe-und-baubiologin/
LOCATION:Baubiologisches Institut Österreich\, Bäckermühlweg 1\, Linz\, Oberösterreich\, 4030\, Österreich
CATEGORIES:Ausbildung
ATTACH;FMTTYPE=image/png:https://raumdialog.at/wp-content/BBI-Logo-RGB_300-dpi_weiss_transparent-1.png
ORGANIZER;CN="Baubiologisches Institut %C3%96sterreich":MAILTO:institut@baubiologie.or.at
END:VEVENT
END:VCALENDAR