BEGIN:VCALENDAR
VERSION:2.0
PRODID:-//Raumdialog - ECPv6.15.20//NONSGML v1.0//EN
CALSCALE:GREGORIAN
METHOD:PUBLISH
X-WR-CALNAME:Raumdialog
X-ORIGINAL-URL:https://raumdialog.at
X-WR-CALDESC:Veranstaltungen für Raumdialog
REFRESH-INTERVAL;VALUE=DURATION:PT1H
X-Robots-Tag:noindex
X-PUBLISHED-TTL:PT1H
BEGIN:VTIMEZONE
TZID:Europe/Vienna
BEGIN:DAYLIGHT
TZOFFSETFROM:+0100
TZOFFSETTO:+0200
TZNAME:CEST
DTSTART:20230326T010000
END:DAYLIGHT
BEGIN:STANDARD
TZOFFSETFROM:+0200
TZOFFSETTO:+0100
TZNAME:CET
DTSTART:20231029T010000
END:STANDARD
BEGIN:DAYLIGHT
TZOFFSETFROM:+0100
TZOFFSETTO:+0200
TZNAME:CEST
DTSTART:20240331T010000
END:DAYLIGHT
BEGIN:STANDARD
TZOFFSETFROM:+0200
TZOFFSETTO:+0100
TZNAME:CET
DTSTART:20241027T010000
END:STANDARD
BEGIN:DAYLIGHT
TZOFFSETFROM:+0100
TZOFFSETTO:+0200
TZNAME:CEST
DTSTART:20250330T010000
END:DAYLIGHT
BEGIN:STANDARD
TZOFFSETFROM:+0200
TZOFFSETTO:+0100
TZNAME:CET
DTSTART:20251026T010000
END:STANDARD
END:VTIMEZONE
BEGIN:VEVENT
DTSTART;TZID=Europe/Vienna:20240309T093000
DTEND;TZID=Europe/Vienna:20240309T160000
DTSTAMP:20260422T085611
CREATED:20240121T105109Z
LAST-MODIFIED:20240121T143038Z
UID:616-1709976600-1710000000@raumdialog.at
SUMMARY:Der gute Schlafplatz
DESCRIPTION:Ein Drittel unserer Lebenszeit halten wir uns auf diesen zwei Quadratmetern auf. Unser Körper reagiert gerade während der Schlafphase besonders empfindlich auf natürliche und technische Belastungen. Elektrosmog\, Schadstoffe und andere Faktoren können die Erholsamkeit des Schlafes beeinträchtigen.  \n\n\n\n\n\n\n\nIn diesem Workshop werden Theorie und Praxis im Finden und Gestalten eines guten Schlafplatzes vermittelt. Aufbauend auf einer Einführung in das Thema widmen wir uns im Workshop genau ihrem Schlafplatz. Bringen Sie einen Grundrissplan und Fotos ihres Schlafzimmers mit. Im Workshop werden wir die Räume gemeinsam optimieren. \n\n\n\n\n\n\n\nWorkshopinhalte: \n\n\n\n\nGestaltung von Schlafräumen: Warum ist das notwendig und was ist zu berücksichtigen?\n\n\n\nElektro- und Lichtbiologie: Vorkommen\, Wirkungen und technische Messungen von niederfrequenten elektrischen und magnetischen Feldern\, hochfrequenten elektromagnetischen Strahlungen\, Leuchtmittel und chronobiologische Wirkungen.\n\n\n\nBaubiologie: Vorkommen\, Wirkungen und technische Messungen von Schadstoffen in Materialien\, Bau- und Werkstoffen.\n\n\n\nGeobiologie: Vorkommen\, Wirkungen und technische Messungen von Wasseradern\, geologische Verwerfungen und Radon.\n\n\n\nRaumenergetik und Raumpsychologie: Wirkungen von Grundriss und Lage von Schlafräumen im Wohnungsverbund\, von Raumzonen und der Platzierung von Möbeln.\n\n\n\n\n\n\n\n\n\n\n\n\n\n\n\nAnmeldung zur Veranstaltung
URL:https://raumdialog.at/termin/der-gute-schlafplatz/
LOCATION:Oberösterreich
CATEGORIES:Seminar / Workshop
ATTACH;FMTTYPE=image/jpeg:https://raumdialog.at/wp-content/kinga-cichewicz-5NzOfwXoH88-unsplash-scaled.jpg
ORGANIZER;CN="Raumdialog":MAILTO:office@raumdialog.at
END:VEVENT
END:VCALENDAR