BEGIN:VCALENDAR
VERSION:2.0
PRODID:-//Raumdialog - ECPv6.15.20//NONSGML v1.0//EN
CALSCALE:GREGORIAN
METHOD:PUBLISH
X-ORIGINAL-URL:https://raumdialog.at
X-WR-CALDESC:Veranstaltungen für Raumdialog
REFRESH-INTERVAL;VALUE=DURATION:PT1H
X-Robots-Tag:noindex
X-PUBLISHED-TTL:PT1H
BEGIN:VTIMEZONE
TZID:Europe/Vienna
BEGIN:DAYLIGHT
TZOFFSETFROM:+0100
TZOFFSETTO:+0200
TZNAME:CEST
DTSTART:20230326T010000
END:DAYLIGHT
BEGIN:STANDARD
TZOFFSETFROM:+0200
TZOFFSETTO:+0100
TZNAME:CET
DTSTART:20231029T010000
END:STANDARD
BEGIN:DAYLIGHT
TZOFFSETFROM:+0100
TZOFFSETTO:+0200
TZNAME:CEST
DTSTART:20240331T010000
END:DAYLIGHT
BEGIN:STANDARD
TZOFFSETFROM:+0200
TZOFFSETTO:+0100
TZNAME:CET
DTSTART:20241027T010000
END:STANDARD
BEGIN:DAYLIGHT
TZOFFSETFROM:+0100
TZOFFSETTO:+0200
TZNAME:CEST
DTSTART:20250330T010000
END:DAYLIGHT
BEGIN:STANDARD
TZOFFSETFROM:+0200
TZOFFSETTO:+0100
TZNAME:CET
DTSTART:20251026T010000
END:STANDARD
END:VTIMEZONE
BEGIN:VEVENT
DTSTART;TZID=Europe/Vienna:20240314T190000
DTEND;TZID=Europe/Vienna:20240314T203000
DTSTAMP:20260422T085014
CREATED:20240119T201614Z
LAST-MODIFIED:20240121T142802Z
UID:590-1710442800-1710448200@raumdialog.at
SUMMARY:Das Grundstück auf dem wir leben
DESCRIPTION:Baubiologische Prävention bei Neubau\, Umbau und Sanierung \n\n\n\n\n\n\n\n\n\nGeobiologische Phänomene\, wie Wasseradern\, Verwerfungen\, Radon\, usw. werden bei Neubau\, Umbau und Sanierung oft nicht berücksichtigt. Werden Daueraufenthaltsplätze\, wie Schlaf- und Arbeitsplätzen\, darauf platziert\, kann sich das belastend auf die Menschen auswirken. Aber auch nachträglich lassen sich viele Verbesserungen erzielen. \n\n\n\n\n\n\n\nIn diesem Vortrag werden alle Aspekte umweltbedingter Belastungen und ihrer Vermeidung angesprochen.  \n\n\n\n\n\n\n\n\n\n\n\n\n\n\nAnmeldung zur Veranstaltung
URL:https://raumdialog.at/termin/arbeiten-mit-dem-pendel/
LOCATION:Oberösterreich
CATEGORIES:Online-Vortrag
ATTACH;FMTTYPE=image/jpeg:https://raumdialog.at/wp-content/bauplatz_276406_1_RainerSturm_pixelio.jpg
ORGANIZER;CN="Raumdialog":MAILTO:office@raumdialog.at
END:VEVENT
END:VCALENDAR