BEGIN:VCALENDAR
VERSION:2.0
PRODID:-//Raumdialog - ECPv6.15.20//NONSGML v1.0//EN
CALSCALE:GREGORIAN
METHOD:PUBLISH
X-ORIGINAL-URL:https://raumdialog.at
X-WR-CALDESC:Veranstaltungen für Raumdialog
REFRESH-INTERVAL;VALUE=DURATION:PT1H
X-Robots-Tag:noindex
X-PUBLISHED-TTL:PT1H
BEGIN:VTIMEZONE
TZID:Europe/Vienna
BEGIN:DAYLIGHT
TZOFFSETFROM:+0100
TZOFFSETTO:+0200
TZNAME:CEST
DTSTART:20230326T010000
END:DAYLIGHT
BEGIN:STANDARD
TZOFFSETFROM:+0200
TZOFFSETTO:+0100
TZNAME:CET
DTSTART:20231029T010000
END:STANDARD
BEGIN:DAYLIGHT
TZOFFSETFROM:+0100
TZOFFSETTO:+0200
TZNAME:CEST
DTSTART:20240331T010000
END:DAYLIGHT
BEGIN:STANDARD
TZOFFSETFROM:+0200
TZOFFSETTO:+0100
TZNAME:CET
DTSTART:20241027T010000
END:STANDARD
BEGIN:DAYLIGHT
TZOFFSETFROM:+0100
TZOFFSETTO:+0200
TZNAME:CEST
DTSTART:20250330T010000
END:DAYLIGHT
BEGIN:STANDARD
TZOFFSETFROM:+0200
TZOFFSETTO:+0100
TZNAME:CET
DTSTART:20251026T010000
END:STANDARD
END:VTIMEZONE
BEGIN:VEVENT
DTSTART;TZID=Europe/Vienna:20240503T140000
DTEND;TZID=Europe/Vienna:20240504T213000
DTSTAMP:20260422T051306
CREATED:20240119T193437Z
LAST-MODIFIED:20240319T175040Z
UID:568-1714744800-1714858200@raumdialog.at
SUMMARY:Diplomlehrgang Lebensraum-Energetiker.in
DESCRIPTION:Start Freitag\, 03.05.2024 um 14 Uhr\, Dauer bis Ende September. Berufsbegleitend jeweils Freitags 14:00 bis 21:30 Uhr und Samstags 9:00 bis 16:30 Uhr. \n\n\n\n\n\n\n\n\n\nIn diesem Lehrgang an der Vitalakademie Linz erhalten Sie alle Grundlagen\, die sie für eine ganzheitliche Gestaltung ihrer Lebensräume oder für eine professionelle Lebensraumberatung benötigen. Sechs Referent.innen gestalten dabei spannende Workshops in den unterschiedlichen Fachgebieten. \n\n\n\n \n\n\n\n\n\n\nInfos und Anmeldung zum Lehrgang
URL:https://raumdialog.at/termin/diplomlehrgang-lebensraum-energetiker-in/
LOCATION:Vitalakademie\, Langgasse 1-7\, Linz\, Oberösterreich\, 4020\, Österreich
CATEGORIES:Ausbildung
ATTACH;FMTTYPE=image/png:https://raumdialog.at/wp-content/vitalakademie-540x360-1.png
ORGANIZER;CN="Vitalakademie":MAILTO:office@vitalakademie.at
END:VEVENT
END:VCALENDAR