BEGIN:VCALENDAR
VERSION:2.0
PRODID:-//Raumdialog - ECPv6.15.20//NONSGML v1.0//EN
CALSCALE:GREGORIAN
METHOD:PUBLISH
X-ORIGINAL-URL:https://raumdialog.at
X-WR-CALDESC:Veranstaltungen für Raumdialog
REFRESH-INTERVAL;VALUE=DURATION:PT1H
X-Robots-Tag:noindex
X-PUBLISHED-TTL:PT1H
BEGIN:VTIMEZONE
TZID:Europe/Vienna
BEGIN:DAYLIGHT
TZOFFSETFROM:+0100
TZOFFSETTO:+0200
TZNAME:CEST
DTSTART:20230326T010000
END:DAYLIGHT
BEGIN:STANDARD
TZOFFSETFROM:+0200
TZOFFSETTO:+0100
TZNAME:CET
DTSTART:20231029T010000
END:STANDARD
BEGIN:DAYLIGHT
TZOFFSETFROM:+0100
TZOFFSETTO:+0200
TZNAME:CEST
DTSTART:20240331T010000
END:DAYLIGHT
BEGIN:STANDARD
TZOFFSETFROM:+0200
TZOFFSETTO:+0100
TZNAME:CET
DTSTART:20241027T010000
END:STANDARD
BEGIN:DAYLIGHT
TZOFFSETFROM:+0100
TZOFFSETTO:+0200
TZNAME:CEST
DTSTART:20250330T010000
END:DAYLIGHT
BEGIN:STANDARD
TZOFFSETFROM:+0200
TZOFFSETTO:+0100
TZNAME:CET
DTSTART:20251026T010000
END:STANDARD
END:VTIMEZONE
BEGIN:VEVENT
DTSTART;VALUE=DATE:20240509
DTEND;VALUE=DATE:20240513
DTSTAMP:20260422T050349
CREATED:20240319T173304Z
LAST-MODIFIED:20240319T173548Z
UID:730-1715212800-1715558399@raumdialog.at
SUMMARY:we are connected BODENSEE
DESCRIPTION:Herzliche Einladung an alle Interessierten zu unserem EAS Spring-Meeting 2024 im Humboldt-Haus\, in Achberg beim Bodensee! \nWir wollen in die Landschaft des Bodensee „eintauchen“\, diese erforschen\, nach wundervollen Orten suchen und die Schönheit und Besonderheiten dieser entdecken. Dazu laden wir alle ein\, sich im OPEN SPACE zu beteiligen und aktiv am Programm mitzumachen. \nWir freuen uns über Geheimtipps\, Impulse und Beiträge zu unserem Programm vom 9. bis 12. Mai 2024. Nähere Infos und das Anmeldeformular finden Sie mit diesem Link auf der Webseite des EAS zum Herunterladen:
URL:https://raumdialog.at/termin/we-are-connected-bodensee/
LOCATION:Humboldt-Haus Achberg\, Panoramastraße 30\, Achberg (Bodensee)\, 88147\, Deutschland
CATEGORIES:Tagung
ATTACH;FMTTYPE=image/jpeg:https://raumdialog.at/wp-content/EAS-Spring-Meeting-Mai-2024-Flyer_240226_final-2_vorne-scaled.jpg
ORGANIZER;CN="EAS | Europ%C3%A4ischer Verband f%C3%BCr ganzheitliche Raumkultur e.V.":MAILTO:office@eas-ev.eu
END:VEVENT
END:VCALENDAR