BEGIN:VCALENDAR
VERSION:2.0
PRODID:-//Raumdialog - ECPv6.15.20//NONSGML v1.0//EN
CALSCALE:GREGORIAN
METHOD:PUBLISH
X-ORIGINAL-URL:https://raumdialog.at
X-WR-CALDESC:Veranstaltungen für Raumdialog
REFRESH-INTERVAL;VALUE=DURATION:PT1H
X-Robots-Tag:noindex
X-PUBLISHED-TTL:PT1H
BEGIN:VTIMEZONE
TZID:Europe/Vienna
BEGIN:DAYLIGHT
TZOFFSETFROM:+0100
TZOFFSETTO:+0200
TZNAME:CEST
DTSTART:20230326T010000
END:DAYLIGHT
BEGIN:STANDARD
TZOFFSETFROM:+0200
TZOFFSETTO:+0100
TZNAME:CET
DTSTART:20231029T010000
END:STANDARD
BEGIN:DAYLIGHT
TZOFFSETFROM:+0100
TZOFFSETTO:+0200
TZNAME:CEST
DTSTART:20240331T010000
END:DAYLIGHT
BEGIN:STANDARD
TZOFFSETFROM:+0200
TZOFFSETTO:+0100
TZNAME:CET
DTSTART:20241027T010000
END:STANDARD
BEGIN:DAYLIGHT
TZOFFSETFROM:+0100
TZOFFSETTO:+0200
TZNAME:CEST
DTSTART:20250330T010000
END:DAYLIGHT
BEGIN:STANDARD
TZOFFSETFROM:+0200
TZOFFSETTO:+0100
TZNAME:CET
DTSTART:20251026T010000
END:STANDARD
END:VTIMEZONE
BEGIN:VEVENT
DTSTART;TZID=Europe/Vienna:20240518T093000
DTEND;TZID=Europe/Vienna:20240518T160000
DTSTAMP:20260422T050320
CREATED:20240119T201806Z
LAST-MODIFIED:20240121T141302Z
UID:594-1716024600-1716048000@raumdialog.at
SUMMARY:Rutengehen für Anfänger
DESCRIPTION:In diesem Basis-Workshop werden Theorie und Praxis im Umgang mit der Zweihandrute (Wünschelrute) vermittelt. Auf einfache Art und Weise werden die umfangreichen Einsatzmöglich­keiten der Rute kennengelernt und praktisch erprobt. Keine Vorkenntnisse erforderlich. \n\n\n\n\n\n\n\n\n\n\n\n\n\nDownload Seminarbeschreibung: \n\n\n\nRaumdialog_Rute_2024\n\n\n\n\n\n\n\n\nAnmeldung zur Veranstaltung
URL:https://raumdialog.at/termin/rutengehen-fuer-anfaenger/
LOCATION:Oberösterreich
CATEGORIES:Seminar / Workshop
ATTACH;FMTTYPE=image/jpeg:https://raumdialog.at/wp-content/AdobeStock_66295651_Monika_Wisniewska_2-scaled.jpg
ORGANIZER;CN="Raumdialog":MAILTO:office@raumdialog.at
END:VEVENT
END:VCALENDAR