BEGIN:VCALENDAR
VERSION:2.0
PRODID:-//Raumdialog - ECPv6.15.20//NONSGML v1.0//EN
CALSCALE:GREGORIAN
METHOD:PUBLISH
X-WR-CALNAME:Raumdialog
X-ORIGINAL-URL:https://raumdialog.at
X-WR-CALDESC:Veranstaltungen für Raumdialog
REFRESH-INTERVAL;VALUE=DURATION:PT1H
X-Robots-Tag:noindex
X-PUBLISHED-TTL:PT1H
BEGIN:VTIMEZONE
TZID:Europe/Vienna
BEGIN:DAYLIGHT
TZOFFSETFROM:+0100
TZOFFSETTO:+0200
TZNAME:CEST
DTSTART:20230326T010000
END:DAYLIGHT
BEGIN:STANDARD
TZOFFSETFROM:+0200
TZOFFSETTO:+0100
TZNAME:CET
DTSTART:20231029T010000
END:STANDARD
BEGIN:DAYLIGHT
TZOFFSETFROM:+0100
TZOFFSETTO:+0200
TZNAME:CEST
DTSTART:20240331T010000
END:DAYLIGHT
BEGIN:STANDARD
TZOFFSETFROM:+0200
TZOFFSETTO:+0100
TZNAME:CET
DTSTART:20241027T010000
END:STANDARD
BEGIN:DAYLIGHT
TZOFFSETFROM:+0100
TZOFFSETTO:+0200
TZNAME:CEST
DTSTART:20250330T010000
END:DAYLIGHT
BEGIN:STANDARD
TZOFFSETFROM:+0200
TZOFFSETTO:+0100
TZNAME:CET
DTSTART:20251026T010000
END:STANDARD
END:VTIMEZONE
BEGIN:VEVENT
DTSTART;VALUE=DATE:20240705
DTEND;VALUE=DATE:20240708
DTSTAMP:20260422T013951
CREATED:20240319T174214Z
LAST-MODIFIED:20250131T164128Z
UID:738-1720137600-1720396799@raumdialog.at
SUMMARY:Tage der Raumkultur 2024
DESCRIPTION:Ganz herzlich möchten wir alle Engagierten und Interessierten an ganzheitlicher Raumkultur zu den Tagen der Raumkultur 2024 einladen. Sie führen uns diesmal in das Tagungshaus Schloss Buchenau nach Fulda.
URL:https://raumdialog.at/termin/tage-der-raumkultur-2024/
LOCATION:Schloss Buchenau\, Hermann-Lietz-Straße 13\, Buchenau\, 36132\, Deutschland
CATEGORIES:Tagung
ATTACH;FMTTYPE=image/jpeg:https://raumdialog.at/wp-content/schloss_buchenau-1.jpg
ORGANIZER;CN="BGR | Bundesverband f%C3%BCr ganzheitliche Raumkultur e.V.":MAILTO:office@bgr-ev.de
END:VEVENT
END:VCALENDAR