BEGIN:VCALENDAR
VERSION:2.0
PRODID:-//Raumdialog - ECPv6.15.20//NONSGML v1.0//EN
CALSCALE:GREGORIAN
METHOD:PUBLISH
X-ORIGINAL-URL:https://raumdialog.at
X-WR-CALDESC:Veranstaltungen für Raumdialog
REFRESH-INTERVAL;VALUE=DURATION:PT1H
X-Robots-Tag:noindex
X-PUBLISHED-TTL:PT1H
BEGIN:VTIMEZONE
TZID:Europe/Vienna
BEGIN:DAYLIGHT
TZOFFSETFROM:+0100
TZOFFSETTO:+0200
TZNAME:CEST
DTSTART:20240331T010000
END:DAYLIGHT
BEGIN:STANDARD
TZOFFSETFROM:+0200
TZOFFSETTO:+0100
TZNAME:CET
DTSTART:20241027T010000
END:STANDARD
BEGIN:DAYLIGHT
TZOFFSETFROM:+0100
TZOFFSETTO:+0200
TZNAME:CEST
DTSTART:20250330T010000
END:DAYLIGHT
BEGIN:STANDARD
TZOFFSETFROM:+0200
TZOFFSETTO:+0100
TZNAME:CET
DTSTART:20251026T010000
END:STANDARD
BEGIN:DAYLIGHT
TZOFFSETFROM:+0100
TZOFFSETTO:+0200
TZNAME:CEST
DTSTART:20260329T010000
END:DAYLIGHT
BEGIN:STANDARD
TZOFFSETFROM:+0200
TZOFFSETTO:+0100
TZNAME:CET
DTSTART:20261025T010000
END:STANDARD
END:VTIMEZONE
BEGIN:VEVENT
DTSTART;TZID=Europe/Vienna:20250101T080000
DTEND;TZID=Europe/Vienna:20251231T080000
DTSTAMP:20260421T071858
CREATED:20250131T163309Z
LAST-MODIFIED:20250131T163404Z
UID:848-1735718400-1767168000@raumdialog.at
SUMMARY:Fernlehrgang Zert. Baubiologe und Baubiologin
DESCRIPTION:Einstieg jederzeit möglich\, inkl. zwei Wochenenden mit geblockten Nahunterricht in Linz und Graz \n\n\n\nNähere Infos im Baubiologischen Institut Österreich unter+43 732 / 776044 oder institut@baubiologie.or.at – Frau Mag. Susanna Jahrmann \n  \n\n\n\n\nInfos zum Fernlehrgang Baubiologie
URL:https://raumdialog.at/termin/fernlehrgang-zert-baubiologe-und-baubiologin-2/
LOCATION:Baubiologisches Institut Österreich\, Bäckermühlweg 1\, Linz\, Oberösterreich\, 4030\, Österreich
CATEGORIES:Ausbildung
ATTACH;FMTTYPE=image/png:https://raumdialog.at/wp-content/BBI-Logo-RGB_300-dpi_weiss_transparent-1.png
ORGANIZER;CN="Baubiologisches Institut %C3%96sterreich":MAILTO:institut@baubiologie.or.at
END:VEVENT
BEGIN:VEVENT
DTSTART;TZID=Europe/Vienna:20250612T090000
DTEND;TZID=Europe/Vienna:20250615T140000
DTSTAMP:20260421T071858
CREATED:20250131T165053Z
LAST-MODIFIED:20250131T165355Z
UID:858-1749718800-1749996000@raumdialog.at
SUMMARY:Internationale Tagung für Flur- und Kleindenkmalforschung
DESCRIPTION:Wenn Felsen Namen tragen\nSteinformationen und ihre Überlieferungen im Kontext mit regionaler Geschichte \nVortrag Wolfgang Strasser \nAuf der 580 m hohen Anhöhe des Rothberges im Chagerholz in Sarleinsbach im Mühlviertel liegt ein ca. drei Meter hoher Granitfelsen\, der auf seiner Oberfläche sieben Schüsseln aufweist. \nDie Sage berichtet\, dass die Heilige Familie auf ihrer Flucht nach Ägypten den Weg über Sarleinsbach genommen hätte. Eine Schar Engel\, aber auch der Teufel\, begleitete sie. Auf dem Stein am Chagerholz machten sie Rast. Im Stein blieben die Sitze eingeprägt: 1 hl. Maria\, 2 hl. Josef\, 3 Jesuskind\, 4 sein Schutzengel\, 5/6 zwei Engel\, 7 der Teufel. Vitus Ecker (ND) 142 \nEngelsteine sind viel weniger zu finden als Teufelssteine. Das dürfte daran liegen\, dass in der Zeit der Christianisierung die wahrscheinlich paganen Kultsteine eher „verteufelt“ wurden\, weil sie dann als unheimlich galten. \nAuch Heilige hinterließen ihre Spuren im Stein. In unmittelbarer Nähe des Kopfwehsteins in Eidenberg befindet sich auf einem runden Felsen mit Schalen die Wolfgangkapelle. Dieser Stein mit seinen Schalen wird mit der Rast des Heiligen in Verbindung gebracht. Die Spuren des hl. Petrus in Weitersfelden oder des hl. Stephanus in Afiesl-St.Stefan sind weitere Beispiele. \nDamit treten die Heiligen in einer alten christlichen Tradition auf: Im Zentrum der Himmelfahrts­kapelle auf der höchsten Stelle des Ölbergs in Jerusalem verehren Pilger einen Felsen mit einem Spurstein\, von dem aus Christus der Überlieferung nach in den Himmel aufgefahren ist. \nDie Überlieferungen zu den Steinen und ihre Namensgebung werden im Rahmen der historisch-kritischen Sagenforschung interpretiert. Diese mündlichen wie schriftlichen Überlieferungen im Kontext mit regionalen Gegebenheiten\, wie Ortsgeschichte oder Flurnamen in Zusammenhang mit alten Glaubensvorstellungen\, ermöglichen einen Blick auf die einstige wahrscheinliche Funktion der Felsen\, die einen Namen tragen. \n  \nMst.Mag. Wolfgang Strasser\nRegional- und Heimatforscher\, Steinmetz und Steinforscher\nLinz a.d.D.
URL:https://raumdialog.at/termin/internationale-tagung-fuer-flur-und-kleindenkmalforschung/
LOCATION:Eidenberg bei Linz
CATEGORIES:Kongress,Vortrag
ATTACH;FMTTYPE=image/webp:https://raumdialog.at/wp-content/Logo_Arbeitskreis_fuer_Klein-_und_Flurdenkmalforschung_in_OOE.webp
ORGANIZER;CN="Arge Flur- und Kleindenkmalforschung O%C3%96":MAILTO:kontakt@kleindenkmalforschung.at
END:VEVENT
BEGIN:VEVENT
DTSTART;VALUE=DATE:20250613
DTEND;VALUE=DATE:20250616
DTSTAMP:20260421T071858
CREATED:20250131T162805Z
LAST-MODIFIED:20250131T172702Z
UID:843-1749772800-1750031999@raumdialog.at
SUMMARY:Internationaler Jahreskongress für Radiästhesie und Geobiologie 2025
DESCRIPTION:Programm Internationaler Jahreskongress 2025
URL:https://raumdialog.at/termin/internationaler-jahreskongress-2025/
LOCATION:Spital am Pyhrn\, Wiesenweg 7\, Spital am Pyhrn\, Hotel Freunde der Natur\, 4582\, Österreich
CATEGORIES:Kongress
ATTACH;FMTTYPE=image/webp:https://raumdialog.at/wp-content/radi_kongress_2023.webp
ORGANIZER;CN="%C3%96sterreichischer Verband f%C3%BCr Radi%C3%A4sthesie & Geobiologie":MAILTO:info@radiaesthesieverband.at
END:VEVENT
END:VCALENDAR