BEGIN:VCALENDAR
VERSION:2.0
PRODID:-//Raumdialog - ECPv6.15.20//NONSGML v1.0//EN
CALSCALE:GREGORIAN
METHOD:PUBLISH
X-ORIGINAL-URL:https://raumdialog.at
X-WR-CALDESC:Veranstaltungen für Raumdialog
REFRESH-INTERVAL;VALUE=DURATION:PT1H
X-Robots-Tag:noindex
X-PUBLISHED-TTL:PT1H
BEGIN:VTIMEZONE
TZID:Europe/Vienna
BEGIN:DAYLIGHT
TZOFFSETFROM:+0100
TZOFFSETTO:+0200
TZNAME:CEST
DTSTART:20250330T010000
END:DAYLIGHT
BEGIN:STANDARD
TZOFFSETFROM:+0200
TZOFFSETTO:+0100
TZNAME:CET
DTSTART:20251026T010000
END:STANDARD
BEGIN:DAYLIGHT
TZOFFSETFROM:+0100
TZOFFSETTO:+0200
TZNAME:CEST
DTSTART:20260329T010000
END:DAYLIGHT
BEGIN:STANDARD
TZOFFSETFROM:+0200
TZOFFSETTO:+0100
TZNAME:CET
DTSTART:20261025T010000
END:STANDARD
BEGIN:DAYLIGHT
TZOFFSETFROM:+0100
TZOFFSETTO:+0200
TZNAME:CEST
DTSTART:20270328T010000
END:DAYLIGHT
BEGIN:STANDARD
TZOFFSETFROM:+0200
TZOFFSETTO:+0100
TZNAME:CET
DTSTART:20271031T010000
END:STANDARD
END:VTIMEZONE
BEGIN:VEVENT
DTSTART;TZID=Europe/Vienna:20260313T100000
DTEND;TZID=Europe/Vienna:20260314T160000
DTSTAMP:20260420T130009
CREATED:20260209T162658Z
LAST-MODIFIED:20260209T162658Z
UID:1867-1773396000-1773504000@raumdialog.at
SUMMARY:Arbeiten mit dem Tensor für Einsteiger
DESCRIPTION:Jeder Mensch trägt in sich die Fähigkeiten erweiterter Sinneswahrnehmungen und kann das Muten mit dem Tensor (Einhandrute) erlernen. In diesem Basis-Workshop werden Theorie und Praxis im Umgang mit der Einhandrute bzw. dem Tensor vermittelt. Auf einfache Art und Weise werden die umfangreichen Einsatzmöglich­keiten des Tensors kennengelernt und praktisch erprobt. \nLehrinhalte: Wie und warum funktionieren Tensoren? – Anwendungsgebiete und -methoden – Phäno­mene und Wirkungen – radiästhetisches Werkzeug  und Tensorarten – Arbeits­techniken und Test­möglichkeiten – Aufbewahrung und Pflege – Präsenz und Selbstschutz. \nArbeiten mit dem Tensor: Grundgedanken – ethische Aspekte – Anfangshürden und Fehler­­ursachen – Grundregeln feinstofflicher Arbeit – Vorbereitung und erste Schritte – Halte- und Griff­technik – Tensor­bewegungen – Kalibrierung und Grundübungen – Bezugs- und Resonanz­test – Mentale Fragestellungen – Fernmutung – Lebensenergie und Energietestung – Polari­sation – Medulla Scanning – Suchen und Peilen – Werte abfragen und zählen. \nWir üben anhand von Praxisbeispielen\, wie Testungen von Lebensmittel\, Nahrungs­ergänzungen\, Vitalstoffen\, Meridian- und Chakren-Aktivität\, Ferntestungen\, usw. Bitte nehmen Sie dafür eine Auswahl an Lebensmittel\, Nahrungsergänzungen\, Kosmetika\, Hygieneprodukte\, usw. mit. Dies ist wichtig\, damit Sie sich untereinander austesten können und möglichst viele verschiedene Produkte dafür zur Verfügung haben. \nHinweise: \nWer schon einen Tensor besitzt\, möge ihn bitte mitbringen. Für den Unterricht stehen auch Leihgeräte zur Verfügung. \nReferent: \nMag. Wolfgang Strasser\, Lebensraumberatung und -coaching+43 (0)664 / 4053748 – w.strasser@raumdialog.at – www.raumdialog.at \nSeminarort: \nRaum Linz \nSeminarkosten: \nWorkshop zweitägig € 340\,– inkl. Skriptum in digitaler Form \nAnmeldung: \nmit unten verlinkten Formular oder per Mail an office@raumdialog.at \n\n\n\n \n\n\n\n\n\n \n\n\n\n  \n\n\n\n \n\n\n\n\nAnmeldung zur Veranstaltung
URL:https://raumdialog.at/termin/arbeiten-mit-dem-tensor-fuer-einsteiger/
LOCATION:Linz-Urfahr\, Kirchmühlstraße 28\, Linz\, 4040\, Austria
CATEGORIES:Seminar / Workshop
ATTACH;FMTTYPE=image/jpeg:https://raumdialog.at/wp-content/oekotensor-der-klassiker_2-scaled.jpg
ORGANIZER;CN="Raumdialog":MAILTO:office@raumdialog.at
END:VEVENT
END:VCALENDAR