BEGIN:VCALENDAR
VERSION:2.0
PRODID:-//Raumdialog - ECPv6.15.20//NONSGML v1.0//EN
CALSCALE:GREGORIAN
METHOD:PUBLISH
X-WR-CALNAME:Raumdialog
X-ORIGINAL-URL:https://raumdialog.at
X-WR-CALDESC:Veranstaltungen für Raumdialog
REFRESH-INTERVAL;VALUE=DURATION:PT1H
X-Robots-Tag:noindex
X-PUBLISHED-TTL:PT1H
BEGIN:VTIMEZONE
TZID:Europe/Vienna
BEGIN:DAYLIGHT
TZOFFSETFROM:+0100
TZOFFSETTO:+0200
TZNAME:CEST
DTSTART:20250330T010000
END:DAYLIGHT
BEGIN:STANDARD
TZOFFSETFROM:+0200
TZOFFSETTO:+0100
TZNAME:CET
DTSTART:20251026T010000
END:STANDARD
BEGIN:DAYLIGHT
TZOFFSETFROM:+0100
TZOFFSETTO:+0200
TZNAME:CEST
DTSTART:20260329T010000
END:DAYLIGHT
BEGIN:STANDARD
TZOFFSETFROM:+0200
TZOFFSETTO:+0100
TZNAME:CET
DTSTART:20261025T010000
END:STANDARD
BEGIN:DAYLIGHT
TZOFFSETFROM:+0100
TZOFFSETTO:+0200
TZNAME:CEST
DTSTART:20270328T010000
END:DAYLIGHT
BEGIN:STANDARD
TZOFFSETFROM:+0200
TZOFFSETTO:+0100
TZNAME:CET
DTSTART:20271031T010000
END:STANDARD
END:VTIMEZONE
BEGIN:VEVENT
DTSTART;VALUE=DATE:20260327
DTEND;VALUE=DATE:20260329
DTSTAMP:20260420T160302
CREATED:20250916T083313Z
LAST-MODIFIED:20250916T083313Z
UID:1466-1774569600-1774742399@raumdialog.at
SUMMARY:Rutengehen 1 - Rutengehen für Einsteiger
DESCRIPTION: \n\n\n\nIn diesem Basis-Workshop werden Theorie und Praxis im Umgang mit der Zweihandrute (Wünschelrute) vermittelt. Auf einfache Art und Weise werden die umfangreichen Einsatzmöglichkeiten der Rute kennengelernt und praktisch erprobt. \nSie erlernen das Rutengehen\, entwickeln die Rutenfühligkeit und üben das Auffinden von Erdstrahlen. Sie erwerben theoretische Kenntnisse über die Natur geobiologischer Zonen und bekommen die Gelegenheit\, selbst den Umgang mit der Rute zu üben. \nDas Seminar ist für alle diejenigen geeignet\, die Rutengehen ausprobieren und sich mit dem Thema erstmals vertraut machen wollen. \nLehrinhalte: Wie und warum funktionieren Ruten? – Anwendungsgebiete und -methoden – Phänomene und Wirkungen – radiästhetisches Werkzeug  und Rutenarten – Arbeits­techniken und Testmöglichkeiten – Auffinden und Interpretation von Wasseradern\, Verwerfungen und Netzgitter – Aufbewahrung und Pflege – Präsenz und Selbstschutz. \nArbeiten mit der Wünschelrute: Grundgedanken – ethische Aspekte – Anfangshürden und Fehler­ursachen – Grund­regeln feinstofflicher Arbeit – Vorbereitung und erste Schritte – Halte- und Griff­technik – Ruten­bewegungen – Kalibrierung und Grundübungen – Grifflängentechnik – Mentale Fragestellungen – Fernmutung – Lebensenergie und Energietestung – Polarisation – Medulla Scanning – Suchen und Peilen – Werte abfragen und zählen. \nFür den Workshop sind keine Vorkenntnisse erforderlich. Jeder kann den Umgang mit Rute\, Tensor und Pendel lernen !!! \nHinweise: \nWer schon eine Rute besitzt\, möge sie bitte mitbringen. Für den Unterricht stehen auch Leihruten zur Verfügung. Die Übungen finden im Freien statt. Achten Sie daher auf geeignete Kleidung und Schuhe je nach Wetterlage. \nWorkshop-Reihe: \nFr.\, 27.03.2026 – Sa.\, 28.03.2026Rutengehen 1 – Rutengehen für Einsteiger \nFr.\, 24.04.2026 – Sa.\, 25.04.2026Rutengehen 2 – Grundstücks- und Hausuntersuchung \nFr.\, 22.05.2026 – Sa.\, 23.05.2026Rutengehen 3 – Kraftplatzsuche und -untersuchung \nFr.\, 26.06.2026 – Sa.\, 27.06.2026Rutengehen 4 – Workshop für Fortgeschrittene \nReferent: \nMag. Wolfgang Strasser\, Lebensraumberatung und -coaching+43 (0)664 / 4053748 – w.strasser@raumdialog.at – www.raumdialog.at \nTermin: \nFr.\, 27.03.2026\, 10:00 – 17:00 Uhr und Sa.\, 28.03.2026\, 9:00 – 16:00 Uhr \nOrt: \nRaum Linz \nKosten: \nWorkshop zweitägig € 340\,– inkl. Skriptum in digitaler Form \nAnmeldung: \nSeminar mit unten verlinktem Formular oder per Mail an office@raumdialog.at \n\n\n\n \n\n\n\n\n\n\n\n \n\n\n\n \n\n\n\n\nAnmeldung zur Veranstaltung
URL:https://raumdialog.at/termin/rutengehen-1-rutengehen-fuer-einsteiger/
LOCATION:Raum Linz\, Linz\, 4020\, Austria
CATEGORIES:Seminar / Workshop
ATTACH;FMTTYPE=image/jpeg:https://raumdialog.at/wp-content/AdobeStock_66295651_Monika_Wisniewska_2-scaled.jpg
ORGANIZER;CN="Raumdialog":MAILTO:office@raumdialog.at
END:VEVENT
END:VCALENDAR