BEGIN:VCALENDAR
VERSION:2.0
PRODID:-//Raumdialog - ECPv6.15.20//NONSGML v1.0//EN
CALSCALE:GREGORIAN
METHOD:PUBLISH
X-ORIGINAL-URL:https://raumdialog.at
X-WR-CALDESC:Veranstaltungen für Raumdialog
REFRESH-INTERVAL;VALUE=DURATION:PT1H
X-Robots-Tag:noindex
X-PUBLISHED-TTL:PT1H
BEGIN:VTIMEZONE
TZID:Europe/Vienna
BEGIN:DAYLIGHT
TZOFFSETFROM:+0100
TZOFFSETTO:+0200
TZNAME:CEST
DTSTART:20250330T010000
END:DAYLIGHT
BEGIN:STANDARD
TZOFFSETFROM:+0200
TZOFFSETTO:+0100
TZNAME:CET
DTSTART:20251026T010000
END:STANDARD
BEGIN:DAYLIGHT
TZOFFSETFROM:+0100
TZOFFSETTO:+0200
TZNAME:CEST
DTSTART:20260329T010000
END:DAYLIGHT
BEGIN:STANDARD
TZOFFSETFROM:+0200
TZOFFSETTO:+0100
TZNAME:CET
DTSTART:20261025T010000
END:STANDARD
BEGIN:DAYLIGHT
TZOFFSETFROM:+0100
TZOFFSETTO:+0200
TZNAME:CEST
DTSTART:20270328T010000
END:DAYLIGHT
BEGIN:STANDARD
TZOFFSETFROM:+0200
TZOFFSETTO:+0100
TZNAME:CET
DTSTART:20271031T010000
END:STANDARD
END:VTIMEZONE
BEGIN:VEVENT
DTSTART;VALUE=DATE:20260515
DTEND;VALUE=DATE:20260518
DTSTAMP:20260420T160951
CREATED:20260209T163240Z
LAST-MODIFIED:20260209T164149Z
UID:1869-1778803200-1779062399@raumdialog.at
SUMMARY:Internationaler Jahreskongress für Radiästhesie und Geobiologie 2026
DESCRIPTION:Programm Internationaler Jahreskongress 2026 \nhttps://www.radiaesthesieverband.at/event-details/05-2026-ovrg-internationaler-jahreskongress-2026 \n 
URL:https://raumdialog.at/termin/internationaler-jahreskongress-fuer-radiaesthesie-und-geobiologie-2025/
LOCATION:Spital am Pyhrn\, Wiesenweg 7\, Spital am Pyhrn\, Hotel Freunde der Natur\, 4582\, Österreich
CATEGORIES:Kongress
ATTACH;FMTTYPE=image/avif:https://raumdialog.at/wp-content/95c80b_55db86fe6667481d844afd77eeb8aa0amv2.avif
ORGANIZER;CN="%C3%96sterreichischer Verband f%C3%BCr Radi%C3%A4sthesie & Geobiologie":MAILTO:info@radiaesthesieverband.at
END:VEVENT
END:VCALENDAR