BEGIN:VCALENDAR
VERSION:2.0
PRODID:-//Raumdialog - ECPv6.15.20//NONSGML v1.0//EN
CALSCALE:GREGORIAN
METHOD:PUBLISH
X-WR-CALNAME:Raumdialog
X-ORIGINAL-URL:https://raumdialog.at
X-WR-CALDESC:Veranstaltungen für Raumdialog
REFRESH-INTERVAL;VALUE=DURATION:PT1H
X-Robots-Tag:noindex
X-PUBLISHED-TTL:PT1H
BEGIN:VTIMEZONE
TZID:Europe/Vienna
BEGIN:DAYLIGHT
TZOFFSETFROM:+0100
TZOFFSETTO:+0200
TZNAME:CEST
DTSTART:20250330T010000
END:DAYLIGHT
BEGIN:STANDARD
TZOFFSETFROM:+0200
TZOFFSETTO:+0100
TZNAME:CET
DTSTART:20251026T010000
END:STANDARD
BEGIN:DAYLIGHT
TZOFFSETFROM:+0100
TZOFFSETTO:+0200
TZNAME:CEST
DTSTART:20260329T010000
END:DAYLIGHT
BEGIN:STANDARD
TZOFFSETFROM:+0200
TZOFFSETTO:+0100
TZNAME:CET
DTSTART:20261025T010000
END:STANDARD
BEGIN:DAYLIGHT
TZOFFSETFROM:+0100
TZOFFSETTO:+0200
TZNAME:CEST
DTSTART:20270328T010000
END:DAYLIGHT
BEGIN:STANDARD
TZOFFSETFROM:+0200
TZOFFSETTO:+0100
TZNAME:CET
DTSTART:20271031T010000
END:STANDARD
END:VTIMEZONE
BEGIN:VEVENT
DTSTART;VALUE=DATE:20260522
DTEND;VALUE=DATE:20260524
DTSTAMP:20260420T160337
CREATED:20250916T082312Z
LAST-MODIFIED:20250916T083635Z
UID:1461-1779408000-1779580799@raumdialog.at
SUMMARY:Rutengehen 3 - Kraftplatzsuche und -untersuchung
DESCRIPTION:Die Suche und Erforschung von Orten der Kraft\, von Kraft- und Kultplätzen\, gehört wohl zu den spannendsten Aufgaben in der Radiästhesie. Neben der radiäthetischen Erkundung sind es Einblicke in die Kartenarbeit\, Regional- und Heimatforschung\, Flurnamen- und Sagenforschung\, die diese Arbeit so spannend gestalten. \nIn diesem Workshop werden Theorie und Praxis der Kraftplatzforschung und -untersuchung mit der Zweihandrute (Wünschelrute) vermittelt. Sie erlernen die praktische Anwendung des Rutengehens\, erweitern die Rutenfühligkeit und üben das Auffinden von Orten der Kraft\, ihre geobiologische Ausstattung\, Einstrahlpunkte\, Leylines und andere geomantische Zonen. \nDas Seminar ist für alle diejenigen geeignet\, die das Seminar Rutengehen 1 – Rutengehen für Einsteiger besucht haben oder bereits Erfahrung mit dem Rutengehen mitbringen. \nLehrinhalte: Kurze Wiederholung der Phänomene und Werkzeuge – Was sind Orte der Kraft\, Kraftplätze und Kultorte – Kartenarbeit – Regional- und Heimatforschung – Flurnamen- und Sagenforschung – Annäherung und Landschaftsinterpretationen – Landschaftselemente – Zugang\, Betreten des Kraftplatzes und Schwellenritual – Abfragen der örtlichen Situation – Verabschiedung und Dank. \nArbeiten am Kraftplatz: Grundausstattung und Handwerkszeug – Testung der geobiologischen Ausstattung – Testung der geomantischen Qualitäten – Zweck und Bestimmung des Ortes – Genius und Anima Loci\, Wächter\, Naturwesen – aktuelle Bestimmung des Ortes – und vieles mehr. \nHinweise: \nBitte bringen Sie Ihr eigenes Werkzeug mit. Für den Unterricht stehen auch Leihgeräte zur Verfügung. Der Workshop findet weitgehend im Freien statt. Achten Sie daher auf geeignete Kleidung und Schuhe je nach Wetterlage. Dienlich sind auch Sitzunterlage\, Kompass und Wasser. \nWorkshop-Reihe: \nFr.\, 27.03.2026 – Sa.\, 28.03.2026Rutengehen 1 – Rutengehen für Einsteiger \nFr.\, 24.04.2026 – Sa.\, 25.04.2026Rutengehen 2 – Grundstücks- und Hausuntersuchung \nFr.\, 22.05.2026 – Sa.\, 23.05.2026Rutengehen 3 – Kraftplatzsuche und -untersuchung \nFr.\, 26.06.2026 – Sa.\, 27.06.2026Rutengehen 4 – Workshop für Fortgeschrittene \nReferent: \nMag. Wolfgang Strasser\, Lebensraumberatung und -coaching +43 (0)664 / 4053748 – w.strasser@raumdialog.at – www.raumdialog.at \nTermin: \nFr.\, 22.05.2026\, 10:00 – 17:00 Uhr und Sa.\, 23.05.2026\, 9:00 – 16:00 Uhr \nSeminarort: \nPesenbachtal\, Bad Mühllacken\, Gemeinde Feldkirchen an der Donau\, Oberösterreich \nSeminarkosten: \nWorkshop zweitägig € 340\,– inkl. Skriptum in digitaler Form \nAnmeldung: \nSeminar mit unten verlinktem Formular oder per Mail an office@raumdialog.at \n\n\n\n \n\n\n\n\n\n \n\n\n\n\n\n \n\n\n\n \n\n\n\n\nAnmeldung zur Veranstaltung
URL:https://raumdialog.at/termin/rutengehen-3-kraftplatzsuche-und-untersuchung-2/
LOCATION:Pesenbachtal\, Bad Mühllacken\, Feldkirchen an der Donau\, Oberösterreich\, 4101\, Austria
CATEGORIES:Seminar / Workshop
ATTACH;FMTTYPE=image/jpeg:https://raumdialog.at/wp-content/Pesenbachtal_10__Wolfgang_Strasser.jpg
END:VEVENT
END:VCALENDAR