BEGIN:VCALENDAR
VERSION:2.0
PRODID:-//Raumdialog - ECPv6.15.20//NONSGML v1.0//EN
CALSCALE:GREGORIAN
METHOD:PUBLISH
X-WR-CALNAME:Raumdialog
X-ORIGINAL-URL:https://raumdialog.at
X-WR-CALDESC:Veranstaltungen für Raumdialog
REFRESH-INTERVAL;VALUE=DURATION:PT1H
X-Robots-Tag:noindex
X-PUBLISHED-TTL:PT1H
BEGIN:VTIMEZONE
TZID:Europe/Vienna
BEGIN:DAYLIGHT
TZOFFSETFROM:+0100
TZOFFSETTO:+0200
TZNAME:CEST
DTSTART:20250330T010000
END:DAYLIGHT
BEGIN:STANDARD
TZOFFSETFROM:+0200
TZOFFSETTO:+0100
TZNAME:CET
DTSTART:20251026T010000
END:STANDARD
BEGIN:DAYLIGHT
TZOFFSETFROM:+0100
TZOFFSETTO:+0200
TZNAME:CEST
DTSTART:20260329T010000
END:DAYLIGHT
BEGIN:STANDARD
TZOFFSETFROM:+0200
TZOFFSETTO:+0100
TZNAME:CET
DTSTART:20261025T010000
END:STANDARD
BEGIN:DAYLIGHT
TZOFFSETFROM:+0100
TZOFFSETTO:+0200
TZNAME:CEST
DTSTART:20270328T010000
END:DAYLIGHT
BEGIN:STANDARD
TZOFFSETFROM:+0200
TZOFFSETTO:+0100
TZNAME:CET
DTSTART:20271031T010000
END:STANDARD
END:VTIMEZONE
BEGIN:VEVENT
DTSTART;VALUE=DATE:20260626
DTEND;VALUE=DATE:20260628
DTSTAMP:20260420T173418
CREATED:20250916T083541Z
LAST-MODIFIED:20250916T094419Z
UID:1468-1782432000-1782604799@raumdialog.at
SUMMARY:Rutengehen 4 - Workshop für Fortgeschrittene
DESCRIPTION: \n\n\n\nIn diesem Workshop werden Theorie und Praxis aus den Seminaren Rutengehen 1 bis 3 vertieft. \nHinweise: \nDie Übungen finden im Freien statt. Achten Sie daher auf geeignete Kleidung und Schuhe je nach Wetterlage. \nWorkshop-Reihe: \nFr.\, 27.03.2026 – Sa.\, 28.03.2026Rutengehen 1 – Rutengehen für Einsteiger \nFr.\, 24.04.2026 – Sa.\, 25.04.2026Rutengehen 2 – Grundstücks- und Hausuntersuchung \nFr.\, 22.05.2026 – Sa.\, 23.05.2026Rutengehen 3 – Kraftplatzsuche und -untersuchung \nFr.\, 26.06.2026 – Sa.\, 27.06.2026Rutengehen 4 – Workshop für Fortgeschrittene \nReferent: \nMag. Wolfgang Strasser\, Lebensraumberatung und -coaching+43 (0)664 / 4053748 – w.strasser@raumdialog.at – www.raumdialog.at \nTermin: \nFr.\, 26.06.2026\, 10:00 – 17:00 Uhr und Sa.\, 27.06.2026\, 9:00 – 16:00 Uhr \nOrt: \nRaum Linz \nKosten: \nWorkshop zweitägig € 340\,– inkl. Skriptum in digitaler Form \nAnmeldung: \nSeminar mit unten verlinktem Formular oder per Mail an office@raumdialog.at \n\n\n\n \n\n\n\n\n\n\n\n \n\n\n\n \n\n\n\n\nAnmeldung zur Veranstaltung
URL:https://raumdialog.at/termin/rutengehen-4-workshop-fuer-fortgeschrittene/
LOCATION:Raum Linz\, Linz\, 4020\, Austria
CATEGORIES:Seminar / Workshop
ATTACH;FMTTYPE=image/jpeg:https://raumdialog.at/wp-content/Unbenannt-2.jpg
ORGANIZER;CN="Raumdialog":MAILTO:office@raumdialog.at
END:VEVENT
END:VCALENDAR