BEGIN:VCALENDAR
VERSION:2.0
PRODID:-//Raumdialog - ECPv6.15.20//NONSGML v1.0//EN
CALSCALE:GREGORIAN
METHOD:PUBLISH
X-WR-CALNAME:Raumdialog
X-ORIGINAL-URL:https://raumdialog.at
X-WR-CALDESC:Veranstaltungen für Raumdialog
REFRESH-INTERVAL;VALUE=DURATION:PT1H
X-Robots-Tag:noindex
X-PUBLISHED-TTL:PT1H
BEGIN:VTIMEZONE
TZID:Europe/Vienna
BEGIN:DAYLIGHT
TZOFFSETFROM:+0100
TZOFFSETTO:+0200
TZNAME:CEST
DTSTART:20230326T010000
END:DAYLIGHT
BEGIN:STANDARD
TZOFFSETFROM:+0200
TZOFFSETTO:+0100
TZNAME:CET
DTSTART:20231029T010000
END:STANDARD
BEGIN:DAYLIGHT
TZOFFSETFROM:+0100
TZOFFSETTO:+0200
TZNAME:CEST
DTSTART:20240331T010000
END:DAYLIGHT
BEGIN:STANDARD
TZOFFSETFROM:+0200
TZOFFSETTO:+0100
TZNAME:CET
DTSTART:20241027T010000
END:STANDARD
BEGIN:DAYLIGHT
TZOFFSETFROM:+0100
TZOFFSETTO:+0200
TZNAME:CEST
DTSTART:20250330T010000
END:DAYLIGHT
BEGIN:STANDARD
TZOFFSETFROM:+0200
TZOFFSETTO:+0100
TZNAME:CET
DTSTART:20251026T010000
END:STANDARD
END:VTIMEZONE
BEGIN:VEVENT
DTSTART;TZID=Europe/Vienna:20240406T093000
DTEND;TZID=Europe/Vienna:20240406T160000
DTSTAMP:20260422T052625
CREATED:20240121T112423Z
LAST-MODIFIED:20240121T142515Z
UID:651-1712395800-1712419200@raumdialog.at
SUMMARY:Das gute Kinderzimmer
DESCRIPTION:Die Gestaltung eines Kinderzimmers stellt durch unterschiedliche Zonen zum Spielen\, Lernen und Schlafen eine besondere Herausforderung dar. Die Umgestaltung eines Kinder- zum Jugendzimmer folgt den veränderten Bedürfnissen bei der Entwicklung des jungen Menschen zum Erwachsenen. \n\n\n\n\n\n\n\nIn diesem Workshop werden Theorie und Praxis des Kinderzimmers vermittelt. Aufbauend auf einer Einführung in das Thema widmen wir uns im Workshop genau ihren Kinderzimmern. Bringen Sie einen Grundrissplan und Fotos ihrer Kinderzimmer mit. Im Workshop werden wir die Räume gemeinsam optimieren. \n\n\n\n\n\n\n\nWorkshopinhalte: \n\n\n\n\nRaumgestaltung für Kinder: Warum ist das notwendig\, was ist anders und wie kann das geschehen?\n\n\n\nElektro- und Lichtbiologie: Vorkommen\, Wirkungen und technische Messungen von niederfrequenten elektrischen und magnetischen Feldern\, hochfrequenten elektromagnetischen Strahlungen\, Leuchtmittel und chronobiologische Wirkungen.\n\n\n\nBaubiologie: Vorkommen\, Wirkungen und technische Messungen von Schadstoffen in Bau- und Werkstoffen\, Einrichtungsmaterialien und Spielzeug.\n\n\n\nGeobiologie: Vorkommen\, Wirkungen und technische Messungen von Wasseradern\, geologische Verwerfungen und Radon.\n\n\n\nRaumenergetik und Raumpsychologie: Wirkungen von Grundriss und Lage von Kinderräumen im Wohnungsverbund\, von Raumzonen und der Platzierung von Möbeln.\n\n\n\n\n\n\n\n\n\n\n\n\n\n\n\nAnmeldung zur Veranstaltung
URL:https://raumdialog.at/termin/das-gute-kinderzimmer/
LOCATION:Oberösterreich
CATEGORIES:Seminar / Workshop
ATTACH;FMTTYPE=image/jpeg:https://raumdialog.at/wp-content/allen-taylor-Im94u5EJsVo-unsplash-scaled.jpg
ORGANIZER;CN="Raumdialog":MAILTO:office@raumdialog.at
END:VEVENT
BEGIN:VEVENT
DTSTART;TZID=Europe/Vienna:20240420T093000
DTEND;TZID=Europe/Vienna:20240420T160000
DTSTAMP:20260422T052625
CREATED:20240119T200858Z
LAST-MODIFIED:20240121T141915Z
UID:582-1713605400-1713628800@raumdialog.at
SUMMARY:Arbeiten mit dem Tensor
DESCRIPTION:In diesem Basis-Workshop werden Theorie und Praxis im Umgang mit der Einhandrute bzw. dem Tensor vermittelt. Auf einfache Art und Weise werden die umfangreichen Einsatzmöglich­keiten des Tensors kennengelernt und praktisch erprobt. Keine Vorkenntnisse erforderlich. \n\n\n\n\n\n\n\n\n\n\n\n\n\nDownload Seminarbeschreibung: \n\n\n\nRaumdialog_Tensor_2024\n\n\n\n\n\n\n\n\nAnmeldung zur Veranstaltung
URL:https://raumdialog.at/termin/arbeiten-mit-dem-tensor/
LOCATION:Oberösterreich
CATEGORIES:Seminar / Workshop
ATTACH;FMTTYPE=image/jpeg:https://raumdialog.at/wp-content/oekotensor-der-klassiker_2-scaled.jpg
ORGANIZER;CN="Raumdialog":MAILTO:office@raumdialog.at
END:VEVENT
END:VCALENDAR