BEGIN:VCALENDAR
VERSION:2.0
PRODID:-//Raumdialog - ECPv6.15.20//NONSGML v1.0//EN
CALSCALE:GREGORIAN
METHOD:PUBLISH
X-WR-CALNAME:Raumdialog
X-ORIGINAL-URL:https://raumdialog.at
X-WR-CALDESC:Veranstaltungen für Raumdialog
REFRESH-INTERVAL;VALUE=DURATION:PT1H
X-Robots-Tag:noindex
X-PUBLISHED-TTL:PT1H
BEGIN:VTIMEZONE
TZID:Europe/Vienna
BEGIN:DAYLIGHT
TZOFFSETFROM:+0100
TZOFFSETTO:+0200
TZNAME:CEST
DTSTART:20230326T010000
END:DAYLIGHT
BEGIN:STANDARD
TZOFFSETFROM:+0200
TZOFFSETTO:+0100
TZNAME:CET
DTSTART:20231029T010000
END:STANDARD
BEGIN:DAYLIGHT
TZOFFSETFROM:+0100
TZOFFSETTO:+0200
TZNAME:CEST
DTSTART:20240331T010000
END:DAYLIGHT
BEGIN:STANDARD
TZOFFSETFROM:+0200
TZOFFSETTO:+0100
TZNAME:CET
DTSTART:20241027T010000
END:STANDARD
BEGIN:DAYLIGHT
TZOFFSETFROM:+0100
TZOFFSETTO:+0200
TZNAME:CEST
DTSTART:20250330T010000
END:DAYLIGHT
BEGIN:STANDARD
TZOFFSETFROM:+0200
TZOFFSETTO:+0100
TZNAME:CET
DTSTART:20251026T010000
END:STANDARD
END:VTIMEZONE
BEGIN:VEVENT
DTSTART;TZID=Europe/Vienna:20240601T093000
DTEND;TZID=Europe/Vienna:20240601T160000
DTSTAMP:20260422T014150
CREATED:20240121T113324Z
LAST-MODIFIED:20240121T140952Z
UID:654-1717234200-1717257600@raumdialog.at
SUMMARY:Das erfolgreiche Homeoffice
DESCRIPTION:Home-Office erlangte eine neue Bedeutung. War es bis dahin eine Möglichkeit für spezielle Berufsgruppen oder kinderbetreuende Elternteile\, so sind nun viele mit der Arbeit zuhause bekannt gemacht worden. Mit dieser Erfahrung erhielt auch eine gute Gestaltung des Arbeitsplatzes eine neue Priorität. \n\n\n\n\n\n\n\nIn diesem Workshop werden Theorie und Praxis des Heimbüros vermittelt. Aufbauend auf einer Einführung in das Thema widmen wir uns im Workshop genau ihrem Homeoffice. Bringen Sie einen Grundrissplan und Fotos ihres Heimbüros mit. Im Workshop werden wir die Räume gemeinsam optimieren. \n\n\n\n\n\n\n\nWorkshopinhalte: \n\n\n\n\n\n\n\n\nRaumgestaltung für das Homeoffice: Warum ist das notwendig und was ist zu berücksichtigen?\n\n\n\nElektro- und Lichtbiologie: Vorkommen\, Wirkungen und technische Messungen von niederfrequenten elektrischen und magnetischen Feldern\, hochfrequenten elektromagnetischen Strahlungen\, Leuchtmittel und chronobiologische Wirkungen.\n\n\n\nBaubiologie: Vorkommen\, Wirkungen und technische Messungen von Schadstoffen in Bau- und Werkstoffen\, Einrichtungsmaterialien und Ausstattung.\n\n\n\nGeobiologie: Vorkommen\, Wirkungen und technische Messungen von Wasseradern\, geologische Verwerfungen und Radon.\n\n\n\nRaumenergetik und Raumpsychologie: Wirkungen von Grundriss und Lage von Arbeitsplätzen im Wohnungsverbund\, von Eingang\, Raumzonen und der Platzierung von Möbeln.\n\n\n\n\n\n\n\n\n\n\n\nAnmeldung zur Veranstaltung
URL:https://raumdialog.at/termin/das-erfolgreiche-homeoffice/
LOCATION:Oberösterreich
CATEGORIES:Seminar / Workshop
ATTACH;FMTTYPE=image/jpeg:https://raumdialog.at/wp-content/paige-cody-ITTqjS3UpoY-unsplash-scaled.jpg
ORGANIZER;CN="Raumdialog":MAILTO:office@raumdialog.at
END:VEVENT
BEGIN:VEVENT
DTSTART;VALUE=DATE:20240607
DTEND;VALUE=DATE:20240610
DTSTAMP:20260422T014150
CREATED:20240319T171530Z
LAST-MODIFIED:20250131T163503Z
UID:743-1717718400-1717977599@raumdialog.at
SUMMARY:Internationaler Jahreskongress 2024
DESCRIPTION:
URL:https://raumdialog.at/termin/internationaler-jahreskongress-2024/
LOCATION:Spital am Pyhrn\, Wiesenweg 7\, Spital am Pyhrn\, Hotel Freunde der Natur\, 4582\, Österreich
CATEGORIES:Kongress
ATTACH;FMTTYPE=image/webp:https://raumdialog.at/wp-content/95c80b_98cbaeb1855c419d814acd95e65355eemv2.webp
ORGANIZER;CN="%C3%96sterreichischer Verband f%C3%BCr Radi%C3%A4sthesie & Geobiologie":MAILTO:info@radiaesthesieverband.at
END:VEVENT
BEGIN:VEVENT
DTSTART;TZID=Europe/Vienna:20240607T130000
DTEND;TZID=Europe/Vienna:20240607T140000
DTSTAMP:20260422T014150
CREATED:20240319T172514Z
LAST-MODIFIED:20240319T172514Z
UID:725-1717765200-1717768800@raumdialog.at
SUMMARY:Wenn Felsen Namen tragen
DESCRIPTION:Wolfgang Strasser erforscht Felsen und Steine\, die mit markanten Bezeichnungen\, Überlieferungen oder Flurnamen verbunden sind und aussagekräftige Namen tragen. „Diese steinernen Naturdenkmale sind ein Teil unserer Kulturlandschaften. Durch die Erforschung\, Erfassung und Dokumentation der Felsen und Steine soll ein Blick in das kulturelle Gedächtnis der Landschaft ermöglicht werden“\, so Wolfgang Strasser\, der sich seit vielen Jahren mit dieser Thematik beschäftigt und bereits im Jahr 2021 eine Systematisierung von Felsen und Steinen in der Klein- und Flurdenkmalforschung veröffentlicht hat. Dem Leitfaden folgten Vollerhebungen im Rahmen von Interreg-Projekten in Oberösterreich\, Niederbayern und Südböhmen. \nDer Vortrag zeigt den Versuch einer Systematisierung von Felsen und Steinen im Kontext der Klein- und Flurdenkmalforschung\, ihren Zusammenhang mit ihren Wirkungen als Kult- und Heilplätze und ihrer Bedeutung in der aktuellen Wahrnehmung.
URL:https://raumdialog.at/termin/wenn-felsen-namen-tragen/
LOCATION:Spital am Pyhrn\, Wiesenweg 7\, Spital am Pyhrn\, Hotel Freunde der Natur\, 4582\, Österreich
CATEGORIES:Kongress,Vortrag
ATTACH;FMTTYPE=image/jpeg:https://raumdialog.at/wp-content/Broschuere-Wenn-Felsen-Namen-tragen-1_Titel-scaled.jpg
ORGANIZER;CN="%C3%96sterreichischer Verband f%C3%BCr Radi%C3%A4sthesie & Geobiologie":MAILTO:info@radiaesthesieverband.at
END:VEVENT
BEGIN:VEVENT
DTSTART;TZID=Europe/Vienna:20240615T093000
DTEND;TZID=Europe/Vienna:20240615T160000
DTSTAMP:20260422T014150
CREATED:20240119T202301Z
LAST-MODIFIED:20240121T140637Z
UID:598-1718443800-1718467200@raumdialog.at
SUMMARY:Radiästhetisches Pendeln
DESCRIPTION:Nicht jeder freundet sich mit der Wünschelrute an\, möchte aber trotzdem radiästhetisch arbeiten. Dies geht auch mit dem Pendel. In diesem zweitägigen Basis-Workshop werden Theorie und Praxis im radiästhetischen und raumenergetischen Umgang mit dem Pendel vermittelt. \n\n\n\n\n\n\n\n\n\n\n\n\n\nDownload Seminarbeschreibung: \n\n\n\nRaumdialog_Radiaesthetisches_Pendeln_2024\n\n\n\n\nAnmeldung zur Veranstaltung
URL:https://raumdialog.at/termin/radiaesthetisches-pendeln/
LOCATION:Oberösterreich
CATEGORIES:Seminar / Workshop
ATTACH;FMTTYPE=image/jpeg:https://raumdialog.at/wp-content/AdobeStock_345978839_1-scaled.jpg
ORGANIZER;CN="Raumdialog":MAILTO:office@raumdialog.at
END:VEVENT
END:VCALENDAR