BEGIN:VCALENDAR
VERSION:2.0
PRODID:-//Raumdialog - ECPv6.15.20//NONSGML v1.0//EN
CALSCALE:GREGORIAN
METHOD:PUBLISH
X-ORIGINAL-URL:https://raumdialog.at
X-WR-CALDESC:Veranstaltungen für Raumdialog
REFRESH-INTERVAL;VALUE=DURATION:PT1H
X-Robots-Tag:noindex
X-PUBLISHED-TTL:PT1H
BEGIN:VTIMEZONE
TZID:Europe/Vienna
BEGIN:DAYLIGHT
TZOFFSETFROM:+0100
TZOFFSETTO:+0200
TZNAME:CEST
DTSTART:20240331T010000
END:DAYLIGHT
BEGIN:STANDARD
TZOFFSETFROM:+0200
TZOFFSETTO:+0100
TZNAME:CET
DTSTART:20241027T010000
END:STANDARD
BEGIN:DAYLIGHT
TZOFFSETFROM:+0100
TZOFFSETTO:+0200
TZNAME:CEST
DTSTART:20250330T010000
END:DAYLIGHT
BEGIN:STANDARD
TZOFFSETFROM:+0200
TZOFFSETTO:+0100
TZNAME:CET
DTSTART:20251026T010000
END:STANDARD
BEGIN:DAYLIGHT
TZOFFSETFROM:+0100
TZOFFSETTO:+0200
TZNAME:CEST
DTSTART:20260329T010000
END:DAYLIGHT
BEGIN:STANDARD
TZOFFSETFROM:+0200
TZOFFSETTO:+0100
TZNAME:CET
DTSTART:20261025T010000
END:STANDARD
END:VTIMEZONE
BEGIN:VEVENT
DTSTART;TZID=Europe/Vienna:20250101T080000
DTEND;TZID=Europe/Vienna:20251231T080000
DTSTAMP:20260420T223923
CREATED:20250131T163309Z
LAST-MODIFIED:20250131T163404Z
UID:848-1735718400-1767168000@raumdialog.at
SUMMARY:Fernlehrgang Zert. Baubiologe und Baubiologin
DESCRIPTION:Einstieg jederzeit möglich\, inkl. zwei Wochenenden mit geblockten Nahunterricht in Linz und Graz \n\n\n\nNähere Infos im Baubiologischen Institut Österreich unter+43 732 / 776044 oder institut@baubiologie.or.at – Frau Mag. Susanna Jahrmann \n  \n\n\n\n\nInfos zum Fernlehrgang Baubiologie
URL:https://raumdialog.at/termin/fernlehrgang-zert-baubiologe-und-baubiologin-2/
LOCATION:Baubiologisches Institut Österreich\, Bäckermühlweg 1\, Linz\, Oberösterreich\, 4030\, Österreich
CATEGORIES:Ausbildung
ATTACH;FMTTYPE=image/png:https://raumdialog.at/wp-content/BBI-Logo-RGB_300-dpi_weiss_transparent-1.png
ORGANIZER;CN="Baubiologisches Institut %C3%96sterreich":MAILTO:institut@baubiologie.or.at
END:VEVENT
BEGIN:VEVENT
DTSTART;VALUE=DATE:20251004
DTEND;VALUE=DATE:20251006
DTSTAMP:20260420T223923
CREATED:20250902T104700Z
LAST-MODIFIED:20250902T105403Z
UID:1423-1759536000-1759708799@raumdialog.at
SUMMARY:Kraftplätze – Räume mit Energie
DESCRIPTION:Vortrag von Mag. Wolfgang Strasser\nbeim Feng Shui Freundschaftsevent 2025\nWohlstand & Fülle – Dein Weg zu mehr Energie\, Erfolg und innerer Klarheit\n \n  \nTag 1 – 4. Oktober 2025 \nZiele erreichen – Die unsichtbaren Blockaden lösen\nmit Monika Reißler \nFinde heraus\, welche unbewussten Hürden Dich zurückhalten – und wie Du sie nachhaltig auflösen kannst. \nDie geheime Formel für Wohlstand\nmit Petra Coll Exposito\nLerne\, wie Du durch die Gestaltung Deiner Räume gezielt finanzielle Fülle aktivierst – ganz konkret und sofort umsetzbar. \nGesichtsdiagnostik – Was Dein Gesicht über Geld verrät\nmit Monika Reißler\nErkenne anhand Deiner Gesichtszüge\, wie Du mit Geld umgehst – und wo Deine inneren Reichtumsquellen liegen. \nWohlstandsgarten – Die Kraft Deines Außenbereichs\nEntdecke\, wie Dein Garten oder Balkon zu einem Ort des Erfolgs und Wachstums werden kann. \n  \nTag 2 – 5. Oktober 2025 \nWohlstand im Sternbild – Astrologische Geheimnisse für Erfolg\nmit Dr. Jin Peh & Caroline Wolff\nWas sagt Dein Horoskop über Dein finanzielles Potenzial? Erfahre\, wie kosmische Kräfte Deinen Erfolg unterstützen. \nKraftplätze – Räume mit Energie\nmit Wolfgang Strasser\nLerne\, wie Du energetisch starke Orte erkennst\, gestaltest und für Dein persönliches Wachstum nutzt. \nDas I Ging – Der Weg des Wandels\nmit René van Osten\nStelle die richtigen Fragen\, nutze alte Weisheiten für neue Wege – das I Ging als Dein Ratgeber für Reichtum und Klarheit. \n  \nDieses Event ist mehr als nur eine Fachkonferenz – es ist ein Ort der Begegnung\, der Transformation und der echten Inspiration.\nOb Du schon lange in der Beratung tätig bist oder noch am Anfang stehst – Du wirst mit frischem Wissen\, neuen Kontakten und viel Energie nach Hause fahren. \nKongressbeitrag: € 198\,– inkl. MwSt.\nAnmeldung: https://www.digistore24.com/product/511856
URL:https://raumdialog.at/termin/kraftplaetze-raeume-mit-energie/
LOCATION:Primavera Life\, Naturparadies 1\, Oy-Mittelberg\, Allgäu\, 87466\, Germany
CATEGORIES:Kongress,Vortrag
ATTACH;FMTTYPE=image/jpeg:https://raumdialog.at/wp-content/Herr-Strasser-Teich-I.jpg
ORGANIZER;CN="Feng Shui Institute of Excellence":MAILTO:office@feng-shui.de
END:VEVENT
BEGIN:VEVENT
DTSTART;TZID=Europe/Vienna:20251017T090000
DTEND;TZID=Europe/Vienna:20251019T170000
DTSTAMP:20260420T223923
CREATED:20250131T172332Z
LAST-MODIFIED:20250131T172401Z
UID:876-1760691600-1760893200@raumdialog.at
SUMMARY:Messe Bau.Energie.Wohnen Wieselburg 2025
DESCRIPTION:
URL:https://raumdialog.at/termin/messe-bau-energie-wohnen-wieselburg-2025/
LOCATION:Messe Wieselburg\, Volksfestplatz 3\, Wieselburg\, Niederösterreich\, 3250\, Austria
CATEGORIES:Messe,Vortrag
ATTACH;FMTTYPE=image/png:https://raumdialog.at/wp-content/logo_bau-energie-wohnen-wieselburg_2023-1.png
END:VEVENT
END:VCALENDAR