BEGIN:VCALENDAR
VERSION:2.0
PRODID:-//Raumdialog - ECPv6.15.20//NONSGML v1.0//EN
CALSCALE:GREGORIAN
METHOD:PUBLISH
X-ORIGINAL-URL:https://raumdialog.at
X-WR-CALDESC:Veranstaltungen für Raumdialog
REFRESH-INTERVAL;VALUE=DURATION:PT1H
X-Robots-Tag:noindex
X-PUBLISHED-TTL:PT1H
BEGIN:VTIMEZONE
TZID:Europe/Vienna
BEGIN:DAYLIGHT
TZOFFSETFROM:+0100
TZOFFSETTO:+0200
TZNAME:CEST
DTSTART:20250330T010000
END:DAYLIGHT
BEGIN:STANDARD
TZOFFSETFROM:+0200
TZOFFSETTO:+0100
TZNAME:CET
DTSTART:20251026T010000
END:STANDARD
BEGIN:DAYLIGHT
TZOFFSETFROM:+0100
TZOFFSETTO:+0200
TZNAME:CEST
DTSTART:20260329T010000
END:DAYLIGHT
BEGIN:STANDARD
TZOFFSETFROM:+0200
TZOFFSETTO:+0100
TZNAME:CET
DTSTART:20261025T010000
END:STANDARD
BEGIN:DAYLIGHT
TZOFFSETFROM:+0100
TZOFFSETTO:+0200
TZNAME:CEST
DTSTART:20270328T010000
END:DAYLIGHT
BEGIN:STANDARD
TZOFFSETFROM:+0200
TZOFFSETTO:+0100
TZNAME:CET
DTSTART:20271031T010000
END:STANDARD
END:VTIMEZONE
BEGIN:VEVENT
DTSTART;VALUE=DATE:20260424
DTEND;VALUE=DATE:20260426
DTSTAMP:20260420T125531
CREATED:20250916T082536Z
LAST-MODIFIED:20250916T083706Z
UID:1463-1776988800-1777161599@raumdialog.at
SUMMARY:Rutengehen 2 - Grundstücks- und Hausuntersuchung
DESCRIPTION:Die Untersuchung von Grundstück und Bauplatz\, von Haus und Wohnung oder des Schlafplatzes gehören zu den häufigsten Aufgaben in der radiästhetischen\, raumenergetischen und baubiologischen Beratung. Neben der fachlichen Kompetenz braucht es eine gute Begehungsstrategie\, um effizient arbeiten zu können. \nIn diesem Workshop werden Theorie und Praxis der Grundstücks- und Hausuntersuchung mit der Zweihandrute (Wünschelrute) vermittelt. Sie erlernen die praktische Anwendung des Rutengehens\, erweitern die Rutenfühligkeit und üben das Auffinden von geobiologischen Zonen\, wie Wasseradern\, Verwerfungen und Gitternetzen. \nDas Seminar ist für alle diejenigen geeignet\, die das Seminar Rutengehen 1 – Rutengehen für Einsteiger besucht haben oder bereits Erfahrung mit dem Rutengehen mitbringen. \nLehrinhalte: Kurze Wiederholung der Phänomene und Werkzeuge – Auffinden und Interpretationen von Wasseradern\, Verwerfungen und Netzgitter – Annäherung und Landschaftsinterpretationen – Gewässer und Baumbewuchs – Betreten des Grundstücks und Schwellenritual – Abfragen der örtlichen Situation – Gespräch mit dem Auftraggeber – Abfragen der Situation der Bewohner. \nArbeiten am Grundstück: Grundausstattung und Handwerkszeug – Vorbereitung am Grundstück – Begehungstechniken – Linienmutung – Punktmutung – Suchen und Peilen – Breite\, Fließrichtung\, Intensität\, Polarisation – Tiefenbestimmung – Werte abfragen und zählen – Maße nehmen und dokumentieren. \nArbeiten im Haus: Grundausstattung und Handwerkszeug – Vorbereitung in Haus und Wohnung – Begehungstechniken in den Räumen – geobiologische Phänomene – raumenergetische Phänomene – Lebensenergie Verlauf und punktuell – Projektionen und Spiegelungen – technische Störer – bau- und elektrobiologische Situation – radioaktive und chemische Belastungen – Plan und Bericht. \nHinweise: \nBitte bringen Sie Ihr eigenes Werkzeug mit. Für den Unterricht stehen auch Leihgeräte zur Verfügung. Der Workshop findet am Vormittag im Freien statt. Achten Sie daher auf geeignete Kleidung und Schuhe je nach Wetterlage. \nWorkshop-Reihe: \nFr.\, 27.03.2026 – Sa.\, 28.03.2026Rutengehen 1 – Rutengehen für Einsteiger \nFr.\, 24.04.2026 – Sa.\, 25.04.2026Rutengehen 2 – Grundstücks- und Hausuntersuchung \nFr.\, 22.05.2026 – Sa.\, 23.05.2026Rutengehen 3 – Kraftplatzsuche und -untersuchung \nFr.\, 26.06.2026 – Sa.\, 27.06.2026Rutengehen 4 – Workshop für Fortgeschrittene \nReferent: \nMag. Wolfgang Strasser\, Lebensraumberatung und -coaching +43 (0)664 / 4053748 – w.strasser@raumdialog.at – www.raumdialog.at \nTermin: \nFr.\, 24.04.2026\, 10:00 – 17:00 Uhr und Sa.\, 25.04.2026\, 9:00 – 16:00 Uhr \nSeminarort: \nBaustelle oder Haus einer Teilnehmer.in im Raum Linz \nSeminarkosten: \nWorkshop zweitägig € 340\,– inkl. Skriptum in digitaler Form \nAnmeldung: \nSeminar mit unten verlinktem Formular oder per Mail an office@raumdialog.at \n\n\n\n \n\n\n\n\n\n \n\n\n\n\n\n\n\n \n\n\n\n\nAnmeldung zur Veranstaltung
URL:https://raumdialog.at/termin/rutengehen-2-grundstuecks-und-hausuntersuchung-2/
LOCATION:Raum Linz\, Linz\, 4020\, Austria
CATEGORIES:Seminar / Workshop
ATTACH;FMTTYPE=image/jpeg:https://raumdialog.at/wp-content/IMG_20200904_170753-scaled.jpg
END:VEVENT
END:VCALENDAR